Workbook

Sheet Start here
A1: Habit tracker with rewards
A3: Year | B3: 2027 | C3: Change the year and every month sheet updates its dates.
A5: How it works
A6: 1. Habits sheet: list up to 12 habits and how many coins each one pays (5 to 20 is a good range).
A7: 2. Month sheets (Jan to Dec): type x in the day's box when you do the habit. It turns green and pays the coins.
A8: 3. Rewards sheet: list rewards you want and price them in coins. A small treat should take a few days of habits, a big one a month or more.
A9: 4. When your balance covers a reward, take it and write the date in its 'Date claimed' box. The coins come off your balance.
A10: Google Sheets: upload this file to Google Drive and open it with Google Sheets. Everything works there too.
A13: Your coins
A14: Earned | B14: =Rewards!$E$2
A15: Spent | B15: =Rewards!$E$3
A16: Balance | B16: =Rewards!$E$4
A18: Month | B18: Coins earned
A19: January | B19: ='Jan'!$AI$17
A20: February | B20: ='Feb'!$AI$17
A21: March | B21: ='Mar'!$AI$17
A22: April | B22: ='Apr'!$AI$17
A23: May | B23: ='May'!$AI$17
A24: June | B24: ='Jun'!$AI$17
A25: July | B25: ='Jul'!$AI$17
A26: August | B26: ='Aug'!$AI$17
A27: September | B27: ='Sep'!$AI$17
A28: October | B28: ='Oct'!$AI$17
A29: November | B29: ='Nov'!$AI$17
A30: December | B30: ='Dec'!$AI$17
A32: Free from habitrewards.me. Want it on your phone? Habit Rewards does the same with coins, streaks and reminders.

Sheet Habits
A1: Habit | B1: Coins each time
A2: Read 10 pages | B2: 10
A3: Walk 20 minutes | B3: 10
A4: Drink 8 glasses of water | B4: 5
A5: No phone in bed | B5: 15
A15: Up to 12 habits. Change a name here and it changes on every month sheet.

Sheet Jan
A1: January | B1: ='Start here'!$B$3 | D1: Type x on the days you do a habit.
A3: Habit | B3: Coins | C3: =IF(MONTH(DATE('Start here'!$B$3,1,1))=1,1,"") | D3: =IF(MONTH(DATE('Start here'!$B$3,1,2))=1,2,"") | E3: =IF(MONTH(DATE('Start here'!$B$3,1,3))=1,3,"") | F3: =IF(MONTH(DATE('Start here'!$B$3,1,4))=1,4,"") | G3: =IF(MONTH(DATE('Start here'!$B$3,1,5))=1,5,"") | H3: =IF(MONTH(DATE('Start here'!$B$3,1,6))=1,6,"") | I3: =IF(MONTH(DATE('Start here'!$B$3,1,7))=1,7,"") | J3: =IF(MONTH(DATE('Start here'!$B$3,1,8))=1,8,"") | K3: =IF(MONTH(DATE('Start here'!$B$3,1,9))=1,9,"") | L3: =IF(MONTH(DATE('Start here'!$B$3,1,10))=1,10,"") | M3: =IF(MONTH(DATE('Start here'!$B$3,1,11))=1,11,"") | N3: =IF(MONTH(DATE('Start here'!$B$3,1,12))=1,12,"") | O3: =IF(MONTH(DATE('Start here'!$B$3,1,13))=1,13,"") | P3: =IF(MONTH(DATE('Start here'!$B$3,1,14))=1,14,"") | Q3: =IF(MONTH(DATE('Start here'!$B$3,1,15))=1,15,"") | R3: =IF(MONTH(DATE('Start here'!$B$3,1,16))=1,16,"") | S3: =IF(MONTH(DATE('Start here'!$B$3,1,17))=1,17,"") | T3: =IF(MONTH(DATE('Start here'!$B$3,1,18))=1,18,"") | U3: =IF(MONTH(DATE('Start here'!$B$3,1,19))=1,19,"") | V3: =IF(MONTH(DATE('Start here'!$B$3,1,20))=1,20,"") | W3: =IF(MONTH(DATE('Start here'!$B$3,1,21))=1,21,"") | X3: =IF(MONTH(DATE('Start here'!$B$3,1,22))=1,22,"") | Y3: =IF(MONTH(DATE('Start here'!$B$3,1,23))=1,23,"") | Z3: =IF(MONTH(DATE('Start here'!$B$3,1,24))=1,24,"") | AA3: =IF(MONTH(DATE('Start here'!$B$3,1,25))=1,25,"") | AB3: =IF(MONTH(DATE('Start here'!$B$3,1,26))=1,26,"") | AC3: =IF(MONTH(DATE('Start here'!$B$3,1,27))=1,27,"") | AD3: =IF(MONTH(DATE('Start here'!$B$3,1,28))=1,28,"") | AE3: =IF(MONTH(DATE('Start here'!$B$3,1,29))=1,29,"") | AF3: =IF(MONTH(DATE('Start here'!$B$3,1,30))=1,30,"") | AG3: =IF(MONTH(DATE('Start here'!$B$3,1,31))=1,31,"") | AH3: Days | AI3: Coins earned
C4: =IF(MONTH(DATE('Start here'!$B$3,1,1))=1,CHOOSE(WEEKDAY(DATE('Start here'!$B$3,1,1)),"S","M","T","W","T","F","S"),"") | D4: =IF(MONTH(DATE('Start here'!$B$3,1,2))=1,CHOOSE(WEEKDAY(DATE('Start here'!$B$3,1,2)),"S","M","T","W","T","F","S"),"") | E4: =IF(MONTH(DATE('Start here'!$B$3,1,3))=1,CHOOSE(WEEKDAY(DATE('Start here'!$B$3,1,3)),"S","M","T","W","T","F","S"),"") | F4: =IF(MONTH(DATE('Start here'!$B$3,1,4))=1,CHOOSE(WEEKDAY(DATE('Start here'!$B$3,1,4)),"S","M","T","W","T","F","S"),"") | G4: =IF(MONTH(DATE('Start here'!$B$3,1,5))=1,CHOOSE(WEEKDAY(DATE('Start here'!$B$3,1,5)),"S","M","T","W","T","F","S"),"") | H4: =IF(MONTH(DATE('Start here'!$B$3,1,6))=1,CHOOSE(WEEKDAY(DATE('Start here'!$B$3,1,6)),"S","M","T","W","T","F","S"),"") | I4: =IF(MONTH(DATE('Start here'!$B$3,1,7))=1,CHOOSE(WEEKDAY(DATE('Start here'!$B$3,1,7)),"S","M","T","W","T","F","S"),"") | J4: =IF(MONTH(DATE('Start here'!$B$3,1,8))=1,CHOOSE(WEEKDAY(DATE('Start here'!$B$3,1,8)),"S","M","T","W","T","F","S"),"") | K4: =IF(MONTH(DATE('Start here'!$B$3,1,9))=1,CHOOSE(WEEKDAY(DATE('Start here'!$B$3,1,9)),"S","M","T","W","T","F","S"),"") | L4: =IF(MONTH(DATE('Start here'!$B$3,1,10))=1,CHOOSE(WEEKDAY(DATE('Start here'!$B$3,1,10)),"S","M","T","W","T","F","S"),"") | M4: =IF(MONTH(DATE('Start here'!$B$3,1,11))=1,CHOOSE(WEEKDAY(DATE('Start here'!$B$3,1,11)),"S","M","T","W","T","F","S"),"") | N4: =IF(MONTH(DATE('Start here'!$B$3,1,12))=1,CHOOSE(WEEKDAY(DATE('Start here'!$B$3,1,12)),"S","M","T","W","T","F","S"),"") | O4: =IF(MONTH(DATE('Start here'!$B$3,1,13))=1,CHOOSE(WEEKDAY(DATE('Start here'!$B$3,1,13)),"S","M","T","W","T","F","S"),"") | P4: =IF(MONTH(DATE('Start here'!$B$3,1,14))=1,CHOOSE(WEEKDAY(DATE('Start here'!$B$3,1,14)),"S","M","T","W","T","F","S"),"") | Q4: =IF(MONTH(DATE('Start here'!$B$3,1,15))=1,CHOOSE(WEEKDAY(DATE('Start here'!$B$3,1,15)),"S","M","T","W","T","F","S"),"") | R4: =IF(MONTH(DATE('Start here'!$B$3,1,16))=1,CHOOSE(WEEKDAY(DATE('Start here'!$B$3,1,16)),"S","M","T","W","T","F","S"),"") | S4: =IF(MONTH(DATE('Start here'!$B$3,1,17))=1,CHOOSE(WEEKDAY(DATE('Start here'!$B$3,1,17)),"S","M","T","W","T","F","S"),"") | T4: =IF(MONTH(DATE('Start here'!$B$3,1,18))=1,CHOOSE(WEEKDAY(DATE('Start here'!$B$3,1,18)),"S","M","T","W","T","F","S"),"") | U4: =IF(MONTH(DATE('Start here'!$B$3,1,19))=1,CHOOSE(WEEKDAY(DATE('Start here'!$B$3,1,19)),"S","M","T","W","T","F","S"),"") | V4: =IF(MONTH(DATE('Start here'!$B$3,1,20))=1,CHOOSE(WEEKDAY(DATE('Start here'!$B$3,1,20)),"S","M","T","W","T","F","S"),"") | W4: =IF(MONTH(DATE('Start here'!$B$3,1,21))=1,CHOOSE(WEEKDAY(DATE('Start here'!$B$3,1,21)),"S","M","T","W","T","F","S"),"") | X4: =IF(MONTH(DATE('Start here'!$B$3,1,22))=1,CHOOSE(WEEKDAY(DATE('Start here'!$B$3,1,22)),"S","M","T","W","T","F","S"),"") | Y4: =IF(MONTH(DATE('Start here'!$B$3,1,23))=1,CHOOSE(WEEKDAY(DATE('Start here'!$B$3,1,23)),"S","M","T","W","T","F","S"),"") | Z4: =IF(MONTH(DATE('Start here'!$B$3,1,24))=1,CHOOSE(WEEKDAY(DATE('Start here'!$B$3,1,24)),"S","M","T","W","T","F","S"),"") | AA4: =IF(MONTH(DATE('Start here'!$B$3,1,25))=1,CHOOSE(WEEKDAY(DATE('Start here'!$B$3,1,25)),"S","M","T","W","T","F","S"),"") | AB4: =IF(MONTH(DATE('Start here'!$B$3,1,26))=1,CHOOSE(WEEKDAY(DATE('Start here'!$B$3,1,26)),"S","M","T","W","T","F","S"),"") | AC4: =IF(MONTH(DATE('Start here'!$B$3,1,27))=1,CHOOSE(WEEKDAY(DATE('Start here'!$B$3,1,27)),"S","M","T","W","T","F","S"),"") | AD4: =IF(MONTH(DATE('Start here'!$B$3,1,28))=1,CHOOSE(WEEKDAY(DATE('Start here'!$B$3,1,28)),"S","M","T","W","T","F","S"),"") | AE4: =IF(MONTH(DATE('Start here'!$B$3,1,29))=1,CHOOSE(WEEKDAY(DATE('Start here'!$B$3,1,29)),"S","M","T","W","T","F","S"),"") | AF4: =IF(MONTH(DATE('Start here'!$B$3,1,30))=1,CHOOSE(WEEKDAY(DATE('Start here'!$B$3,1,30)),"S","M","T","W","T","F","S"),"") | AG4: =IF(MONTH(DATE('Start here'!$B$3,1,31))=1,CHOOSE(WEEKDAY(DATE('Start here'!$B$3,1,31)),"S","M","T","W","T","F","S"),"")
A5: =IF(Habits!A2="","",Habits!A2) | B5: =IF(Habits!B2="","",Habits!B2) | AH5: =COUNTA(C5:AG5) | AI5: =IF(ISNUMBER(B5),AH5*B5,0)
A6: =IF(Habits!A3="","",Habits!A3) | B6: =IF(Habits!B3="","",Habits!B3) | AH6: =COUNTA(C6:AG6) | AI6: =IF(ISNUMBER(B6),AH6*B6,0)
A7: =IF(Habits!A4="","",Habits!A4) | B7: =IF(Habits!B4="","",Habits!B4) | AH7: =COUNTA(C7:AG7) | AI7: =IF(ISNUMBER(B7),AH7*B7,0)
A8: =IF(Habits!A5="","",Habits!A5) | B8: =IF(Habits!B5="","",Habits!B5) | AH8: =COUNTA(C8:AG8) | AI8: =IF(ISNUMBER(B8),AH8*B8,0)
A9: =IF(Habits!A6="","",Habits!A6) | B9: =IF(Habits!B6="","",Habits!B6) | AH9: =COUNTA(C9:AG9) | AI9: =IF(ISNUMBER(B9),AH9*B9,0)
A10: =IF(Habits!A7="","",Habits!A7) | B10: =IF(Habits!B7="","",Habits!B7) | AH10: =COUNTA(C10:AG10) | AI10: =IF(ISNUMBER(B10),AH10*B10,0)
A11: =IF(Habits!A8="","",Habits!A8) | B11: =IF(Habits!B8="","",Habits!B8) | AH11: =COUNTA(C11:AG11) | AI11: =IF(ISNUMBER(B11),AH11*B11,0)
A12: =IF(Habits!A9="","",Habits!A9) | B12: =IF(Habits!B9="","",Habits!B9) | AH12: =COUNTA(C12:AG12) | AI12: =IF(ISNUMBER(B12),AH12*B12,0)
A13: =IF(Habits!A10="","",Habits!A10) | B13: =IF(Habits!B10="","",Habits!B10) | AH13: =COUNTA(C13:AG13) | AI13: =IF(ISNUMBER(B13),AH13*B13,0)
A14: =IF(Habits!A11="","",Habits!A11) | B14: =IF(Habits!B11="","",Habits!B11) | AH14: =COUNTA(C14:AG14) | AI14: =IF(ISNUMBER(B14),AH14*B14,0)
A15: =IF(Habits!A12="","",Habits!A12) | B15: =IF(Habits!B12="","",Habits!B12) | AH15: =COUNTA(C15:AG15) | AI15: =IF(ISNUMBER(B15),AH15*B15,0)
A16: =IF(Habits!A13="","",Habits!A13) | B16: =IF(Habits!B13="","",Habits!B13) | AH16: =COUNTA(C16:AG16) | AI16: =IF(ISNUMBER(B16),AH16*B16,0)
A17: Total | AH17: =SUM(AH5:AH16) | AI17: =SUM(AI5:AI16)

Sheet Feb
A1: February | B1: ='Start here'!$B$3 | D1: Type x on the days you do a habit.
A3: Habit | B3: Coins | C3: =IF(MONTH(DATE('Start here'!$B$3,2,1))=2,1,"") | D3: =IF(MONTH(DATE('Start here'!$B$3,2,2))=2,2,"") | E3: =IF(MONTH(DATE('Start here'!$B$3,2,3))=2,3,"") | F3: =IF(MONTH(DATE('Start here'!$B$3,2,4))=2,4,"") | G3: =IF(MONTH(DATE('Start here'!$B$3,2,5))=2,5,"") | H3: =IF(MONTH(DATE('Start here'!$B$3,2,6))=2,6,"") | I3: =IF(MONTH(DATE('Start here'!$B$3,2,7))=2,7,"") | J3: =IF(MONTH(DATE('Start here'!$B$3,2,8))=2,8,"") | K3: =IF(MONTH(DATE('Start here'!$B$3,2,9))=2,9,"") | L3: =IF(MONTH(DATE('Start here'!$B$3,2,10))=2,10,"") | M3: =IF(MONTH(DATE('Start here'!$B$3,2,11))=2,11,"") | N3: =IF(MONTH(DATE('Start here'!$B$3,2,12))=2,12,"") | O3: =IF(MONTH(DATE('Start here'!$B$3,2,13))=2,13,"") | P3: =IF(MONTH(DATE('Start here'!$B$3,2,14))=2,14,"") | Q3: =IF(MONTH(DATE('Start here'!$B$3,2,15))=2,15,"") | R3: =IF(MONTH(DATE('Start here'!$B$3,2,16))=2,16,"") | S3: =IF(MONTH(DATE('Start here'!$B$3,2,17))=2,17,"") | T3: =IF(MONTH(DATE('Start here'!$B$3,2,18))=2,18,"") | U3: =IF(MONTH(DATE('Start here'!$B$3,2,19))=2,19,"") | V3: =IF(MONTH(DATE('Start here'!$B$3,2,20))=2,20,"") | W3: =IF(MONTH(DATE('Start here'!$B$3,2,21))=2,21,"") | X3: =IF(MONTH(DATE('Start here'!$B$3,2,22))=2,22,"") | Y3: =IF(MONTH(DATE('Start here'!$B$3,2,23))=2,23,"") | Z3: =IF(MONTH(DATE('Start here'!$B$3,2,24))=2,24,"") | AA3: =IF(MONTH(DATE('Start here'!$B$3,2,25))=2,25,"") | AB3: =IF(MONTH(DATE('Start here'!$B$3,2,26))=2,26,"") | AC3: =IF(MONTH(DATE('Start here'!$B$3,2,27))=2,27,"") | AD3: =IF(MONTH(DATE('Start here'!$B$3,2,28))=2,28,"") | AE3: =IF(MONTH(DATE('Start here'!$B$3,2,29))=2,29,"") | AF3: =IF(MONTH(DATE('Start here'!$B$3,2,30))=2,30,"") | AG3: =IF(MONTH(DATE('Start here'!$B$3,2,31))=2,31,"") | AH3: Days | AI3: Coins earned
C4: =IF(MONTH(DATE('Start here'!$B$3,2,1))=2,CHOOSE(WEEKDAY(DATE('Start here'!$B$3,2,1)),"S","M","T","W","T","F","S"),"") | D4: =IF(MONTH(DATE('Start here'!$B$3,2,2))=2,CHOOSE(WEEKDAY(DATE('Start here'!$B$3,2,2)),"S","M","T","W","T","F","S"),"") | E4: =IF(MONTH(DATE('Start here'!$B$3,2,3))=2,CHOOSE(WEEKDAY(DATE('Start here'!$B$3,2,3)),"S","M","T","W","T","F","S"),"") | F4: =IF(MONTH(DATE('Start here'!$B$3,2,4))=2,CHOOSE(WEEKDAY(DATE('Start here'!$B$3,2,4)),"S","M","T","W","T","F","S"),"") | G4: =IF(MONTH(DATE('Start here'!$B$3,2,5))=2,CHOOSE(WEEKDAY(DATE('Start here'!$B$3,2,5)),"S","M","T","W","T","F","S"),"") | H4: =IF(MONTH(DATE('Start here'!$B$3,2,6))=2,CHOOSE(WEEKDAY(DATE('Start here'!$B$3,2,6)),"S","M","T","W","T","F","S"),"") | I4: =IF(MONTH(DATE('Start here'!$B$3,2,7))=2,CHOOSE(WEEKDAY(DATE('Start here'!$B$3,2,7)),"S","M","T","W","T","F","S"),"") | J4: =IF(MONTH(DATE('Start here'!$B$3,2,8))=2,CHOOSE(WEEKDAY(DATE('Start here'!$B$3,2,8)),"S","M","T","W","T","F","S"),"") | K4: =IF(MONTH(DATE('Start here'!$B$3,2,9))=2,CHOOSE(WEEKDAY(DATE('Start here'!$B$3,2,9)),"S","M","T","W","T","F","S"),"") | L4: =IF(MONTH(DATE('Start here'!$B$3,2,10))=2,CHOOSE(WEEKDAY(DATE('Start here'!$B$3,2,10)),"S","M","T","W","T","F","S"),"") | M4: =IF(MONTH(DATE('Start here'!$B$3,2,11))=2,CHOOSE(WEEKDAY(DATE('Start here'!$B$3,2,11)),"S","M","T","W","T","F","S"),"") | N4: =IF(MONTH(DATE('Start here'!$B$3,2,12))=2,CHOOSE(WEEKDAY(DATE('Start here'!$B$3,2,12)),"S","M","T","W","T","F","S"),"") | O4: =IF(MONTH(DATE('Start here'!$B$3,2,13))=2,CHOOSE(WEEKDAY(DATE('Start here'!$B$3,2,13)),"S","M","T","W","T","F","S"),"") | P4: =IF(MONTH(DATE('Start here'!$B$3,2,14))=2,CHOOSE(WEEKDAY(DATE('Start here'!$B$3,2,14)),"S","M","T","W","T","F","S"),"") | Q4: =IF(MONTH(DATE('Start here'!$B$3,2,15))=2,CHOOSE(WEEKDAY(DATE('Start here'!$B$3,2,15)),"S","M","T","W","T","F","S"),"") | R4: =IF(MONTH(DATE('Start here'!$B$3,2,16))=2,CHOOSE(WEEKDAY(DATE('Start here'!$B$3,2,16)),"S","M","T","W","T","F","S"),"") | S4: =IF(MONTH(DATE('Start here'!$B$3,2,17))=2,CHOOSE(WEEKDAY(DATE('Start here'!$B$3,2,17)),"S","M","T","W","T","F","S"),"") | T4: =IF(MONTH(DATE('Start here'!$B$3,2,18))=2,CHOOSE(WEEKDAY(DATE('Start here'!$B$3,2,18)),"S","M","T","W","T","F","S"),"") | U4: =IF(MONTH(DATE('Start here'!$B$3,2,19))=2,CHOOSE(WEEKDAY(DATE('Start here'!$B$3,2,19)),"S","M","T","W","T","F","S"),"") | V4: =IF(MONTH(DATE('Start here'!$B$3,2,20))=2,CHOOSE(WEEKDAY(DATE('Start here'!$B$3,2,20)),"S","M","T","W","T","F","S"),"") | W4: =IF(MONTH(DATE('Start here'!$B$3,2,21))=2,CHOOSE(WEEKDAY(DATE('Start here'!$B$3,2,21)),"S","M","T","W","T","F","S"),"") | X4: =IF(MONTH(DATE('Start here'!$B$3,2,22))=2,CHOOSE(WEEKDAY(DATE('Start here'!$B$3,2,22)),"S","M","T","W","T","F","S"),"") | Y4: =IF(MONTH(DATE('Start here'!$B$3,2,23))=2,CHOOSE(WEEKDAY(DATE('Start here'!$B$3,2,23)),"S","M","T","W","T","F","S"),"") | Z4: =IF(MONTH(DATE('Start here'!$B$3,2,24))=2,CHOOSE(WEEKDAY(DATE('Start here'!$B$3,2,24)),"S","M","T","W","T","F","S"),"") | AA4: =IF(MONTH(DATE('Start here'!$B$3,2,25))=2,CHOOSE(WEEKDAY(DATE('Start here'!$B$3,2,25)),"S","M","T","W","T","F","S"),"") | AB4: =IF(MONTH(DATE('Start here'!$B$3,2,26))=2,CHOOSE(WEEKDAY(DATE('Start here'!$B$3,2,26)),"S","M","T","W","T","F","S"),"") | AC4: =IF(MONTH(DATE('Start here'!$B$3,2,27))=2,CHOOSE(WEEKDAY(DATE('Start here'!$B$3,2,27)),"S","M","T","W","T","F","S"),"") | AD4: =IF(MONTH(DATE('Start here'!$B$3,2,28))=2,CHOOSE(WEEKDAY(DATE('Start here'!$B$3,2,28)),"S","M","T","W","T","F","S"),"") | AE4: =IF(MONTH(DATE('Start here'!$B$3,2,29))=2,CHOOSE(WEEKDAY(DATE('Start here'!$B$3,2,29)),"S","M","T","W","T","F","S"),"") | AF4: =IF(MONTH(DATE('Start here'!$B$3,2,30))=2,CHOOSE(WEEKDAY(DATE('Start here'!$B$3,2,30)),"S","M","T","W","T","F","S"),"") | AG4: =IF(MONTH(DATE('Start here'!$B$3,2,31))=2,CHOOSE(WEEKDAY(DATE('Start here'!$B$3,2,31)),"S","M","T","W","T","F","S"),"")
A5: =IF(Habits!A2="","",Habits!A2) | B5: =IF(Habits!B2="","",Habits!B2) | AH5: =COUNTA(C5:AG5) | AI5: =IF(ISNUMBER(B5),AH5*B5,0)
A6: =IF(Habits!A3="","",Habits!A3) | B6: =IF(Habits!B3="","",Habits!B3) | AH6: =COUNTA(C6:AG6) | AI6: =IF(ISNUMBER(B6),AH6*B6,0)
A7: =IF(Habits!A4="","",Habits!A4) | B7: =IF(Habits!B4="","",Habits!B4) | AH7: =COUNTA(C7:AG7) | AI7: =IF(ISNUMBER(B7),AH7*B7,0)
A8: =IF(Habits!A5="","",Habits!A5) | B8: =IF(Habits!B5="","",Habits!B5) | AH8: =COUNTA(C8:AG8) | AI8: =IF(ISNUMBER(B8),AH8*B8,0)
A9: =IF(Habits!A6="","",Habits!A6) | B9: =IF(Habits!B6="","",Habits!B6) | AH9: =COUNTA(C9:AG9) | AI9: =IF(ISNUMBER(B9),AH9*B9,0)
A10: =IF(Habits!A7="","",Habits!A7) | B10: =IF(Habits!B7="","",Habits!B7) | AH10: =COUNTA(C10:AG10) | AI10: =IF(ISNUMBER(B10),AH10*B10,0)
A11: =IF(Habits!A8="","",Habits!A8) | B11: =IF(Habits!B8="","",Habits!B8) | AH11: =COUNTA(C11:AG11) | AI11: =IF(ISNUMBER(B11),AH11*B11,0)
A12: =IF(Habits!A9="","",Habits!A9) | B12: =IF(Habits!B9="","",Habits!B9) | AH12: =COUNTA(C12:AG12) | AI12: =IF(ISNUMBER(B12),AH12*B12,0)
A13: =IF(Habits!A10="","",Habits!A10) | B13: =IF(Habits!B10="","",Habits!B10) | AH13: =COUNTA(C13:AG13) | AI13: =IF(ISNUMBER(B13),AH13*B13,0)
A14: =IF(Habits!A11="","",Habits!A11) | B14: =IF(Habits!B11="","",Habits!B11) | AH14: =COUNTA(C14:AG14) | AI14: =IF(ISNUMBER(B14),AH14*B14,0)
A15: =IF(Habits!A12="","",Habits!A12) | B15: =IF(Habits!B12="","",Habits!B12) | AH15: =COUNTA(C15:AG15) | AI15: =IF(ISNUMBER(B15),AH15*B15,0)
A16: =IF(Habits!A13="","",Habits!A13) | B16: =IF(Habits!B13="","",Habits!B13) | AH16: =COUNTA(C16:AG16) | AI16: =IF(ISNUMBER(B16),AH16*B16,0)
A17: Total | AH17: =SUM(AH5:AH16) | AI17: =SUM(AI5:AI16)

Sheet Mar
A1: March | B1: ='Start here'!$B$3 | D1: Type x on the days you do a habit.
A3: Habit | B3: Coins | C3: =IF(MONTH(DATE('Start here'!$B$3,3,1))=3,1,"") | D3: =IF(MONTH(DATE('Start here'!$B$3,3,2))=3,2,"") | E3: =IF(MONTH(DATE('Start here'!$B$3,3,3))=3,3,"") | F3: =IF(MONTH(DATE('Start here'!$B$3,3,4))=3,4,"") | G3: =IF(MONTH(DATE('Start here'!$B$3,3,5))=3,5,"") | H3: =IF(MONTH(DATE('Start here'!$B$3,3,6))=3,6,"") | I3: =IF(MONTH(DATE('Start here'!$B$3,3,7))=3,7,"") | J3: =IF(MONTH(DATE('Start here'!$B$3,3,8))=3,8,"") | K3: =IF(MONTH(DATE('Start here'!$B$3,3,9))=3,9,"") | L3: =IF(MONTH(DATE('Start here'!$B$3,3,10))=3,10,"") | M3: =IF(MONTH(DATE('Start here'!$B$3,3,11))=3,11,"") | N3: =IF(MONTH(DATE('Start here'!$B$3,3,12))=3,12,"") | O3: =IF(MONTH(DATE('Start here'!$B$3,3,13))=3,13,"") | P3: =IF(MONTH(DATE('Start here'!$B$3,3,14))=3,14,"") | Q3: =IF(MONTH(DATE('Start here'!$B$3,3,15))=3,15,"") | R3: =IF(MONTH(DATE('Start here'!$B$3,3,16))=3,16,"") | S3: =IF(MONTH(DATE('Start here'!$B$3,3,17))=3,17,"") | T3: =IF(MONTH(DATE('Start here'!$B$3,3,18))=3,18,"") | U3: =IF(MONTH(DATE('Start here'!$B$3,3,19))=3,19,"") | V3: =IF(MONTH(DATE('Start here'!$B$3,3,20))=3,20,"") | W3: =IF(MONTH(DATE('Start here'!$B$3,3,21))=3,21,"") | X3: =IF(MONTH(DATE('Start here'!$B$3,3,22))=3,22,"") | Y3: =IF(MONTH(DATE('Start here'!$B$3,3,23))=3,23,"") | Z3: =IF(MONTH(DATE('Start here'!$B$3,3,24))=3,24,"") | AA3: =IF(MONTH(DATE('Start here'!$B$3,3,25))=3,25,"") | AB3: =IF(MONTH(DATE('Start here'!$B$3,3,26))=3,26,"") | AC3: =IF(MONTH(DATE('Start here'!$B$3,3,27))=3,27,"") | AD3: =IF(MONTH(DATE('Start here'!$B$3,3,28))=3,28,"") | AE3: =IF(MONTH(DATE('Start here'!$B$3,3,29))=3,29,"") | AF3: =IF(MONTH(DATE('Start here'!$B$3,3,30))=3,30,"") | AG3: =IF(MONTH(DATE('Start here'!$B$3,3,31))=3,31,"") | AH3: Days | AI3: Coins earned
C4: =IF(MONTH(DATE('Start here'!$B$3,3,1))=3,CHOOSE(WEEKDAY(DATE('Start here'!$B$3,3,1)),"S","M","T","W","T","F","S"),"") | D4: =IF(MONTH(DATE('Start here'!$B$3,3,2))=3,CHOOSE(WEEKDAY(DATE('Start here'!$B$3,3,2)),"S","M","T","W","T","F","S"),"") | E4: =IF(MONTH(DATE('Start here'!$B$3,3,3))=3,CHOOSE(WEEKDAY(DATE('Start here'!$B$3,3,3)),"S","M","T","W","T","F","S"),"") | F4: =IF(MONTH(DATE('Start here'!$B$3,3,4))=3,CHOOSE(WEEKDAY(DATE('Start here'!$B$3,3,4)),"S","M","T","W","T","F","S"),"") | G4: =IF(MONTH(DATE('Start here'!$B$3,3,5))=3,CHOOSE(WEEKDAY(DATE('Start here'!$B$3,3,5)),"S","M","T","W","T","F","S"),"") | H4: =IF(MONTH(DATE('Start here'!$B$3,3,6))=3,CHOOSE(WEEKDAY(DATE('Start here'!$B$3,3,6)),"S","M","T","W","T","F","S"),"") | I4: =IF(MONTH(DATE('Start here'!$B$3,3,7))=3,CHOOSE(WEEKDAY(DATE('Start here'!$B$3,3,7)),"S","M","T","W","T","F","S"),"") | J4: =IF(MONTH(DATE('Start here'!$B$3,3,8))=3,CHOOSE(WEEKDAY(DATE('Start here'!$B$3,3,8)),"S","M","T","W","T","F","S"),"") | K4: =IF(MONTH(DATE('Start here'!$B$3,3,9))=3,CHOOSE(WEEKDAY(DATE('Start here'!$B$3,3,9)),"S","M","T","W","T","F","S"),"") | L4: =IF(MONTH(DATE('Start here'!$B$3,3,10))=3,CHOOSE(WEEKDAY(DATE('Start here'!$B$3,3,10)),"S","M","T","W","T","F","S"),"") | M4: =IF(MONTH(DATE('Start here'!$B$3,3,11))=3,CHOOSE(WEEKDAY(DATE('Start here'!$B$3,3,11)),"S","M","T","W","T","F","S"),"") | N4: =IF(MONTH(DATE('Start here'!$B$3,3,12))=3,CHOOSE(WEEKDAY(DATE('Start here'!$B$3,3,12)),"S","M","T","W","T","F","S"),"") | O4: =IF(MONTH(DATE('Start here'!$B$3,3,13))=3,CHOOSE(WEEKDAY(DATE('Start here'!$B$3,3,13)),"S","M","T","W","T","F","S"),"") | P4: =IF(MONTH(DATE('Start here'!$B$3,3,14))=3,CHOOSE(WEEKDAY(DATE('Start here'!$B$3,3,14)),"S","M","T","W","T","F","S"),"") | Q4: =IF(MONTH(DATE('Start here'!$B$3,3,15))=3,CHOOSE(WEEKDAY(DATE('Start here'!$B$3,3,15)),"S","M","T","W","T","F","S"),"") | R4: =IF(MONTH(DATE('Start here'!$B$3,3,16))=3,CHOOSE(WEEKDAY(DATE('Start here'!$B$3,3,16)),"S","M","T","W","T","F","S"),"") | S4: =IF(MONTH(DATE('Start here'!$B$3,3,17))=3,CHOOSE(WEEKDAY(DATE('Start here'!$B$3,3,17)),"S","M","T","W","T","F","S"),"") | T4: =IF(MONTH(DATE('Start here'!$B$3,3,18))=3,CHOOSE(WEEKDAY(DATE('Start here'!$B$3,3,18)),"S","M","T","W","T","F","S"),"") | U4: =IF(MONTH(DATE('Start here'!$B$3,3,19))=3,CHOOSE(WEEKDAY(DATE('Start here'!$B$3,3,19)),"S","M","T","W","T","F","S"),"") | V4: =IF(MONTH(DATE('Start here'!$B$3,3,20))=3,CHOOSE(WEEKDAY(DATE('Start here'!$B$3,3,20)),"S","M","T","W","T","F","S"),"") | W4: =IF(MONTH(DATE('Start here'!$B$3,3,21))=3,CHOOSE(WEEKDAY(DATE('Start here'!$B$3,3,21)),"S","M","T","W","T","F","S"),"") | X4: =IF(MONTH(DATE('Start here'!$B$3,3,22))=3,CHOOSE(WEEKDAY(DATE('Start here'!$B$3,3,22)),"S","M","T","W","T","F","S"),"") | Y4: =IF(MONTH(DATE('Start here'!$B$3,3,23))=3,CHOOSE(WEEKDAY(DATE('Start here'!$B$3,3,23)),"S","M","T","W","T","F","S"),"") | Z4: =IF(MONTH(DATE('Start here'!$B$3,3,24))=3,CHOOSE(WEEKDAY(DATE('Start here'!$B$3,3,24)),"S","M","T","W","T","F","S"),"") | AA4: =IF(MONTH(DATE('Start here'!$B$3,3,25))=3,CHOOSE(WEEKDAY(DATE('Start here'!$B$3,3,25)),"S","M","T","W","T","F","S"),"") | AB4: =IF(MONTH(DATE('Start here'!$B$3,3,26))=3,CHOOSE(WEEKDAY(DATE('Start here'!$B$3,3,26)),"S","M","T","W","T","F","S"),"") | AC4: =IF(MONTH(DATE('Start here'!$B$3,3,27))=3,CHOOSE(WEEKDAY(DATE('Start here'!$B$3,3,27)),"S","M","T","W","T","F","S"),"") | AD4: =IF(MONTH(DATE('Start here'!$B$3,3,28))=3,CHOOSE(WEEKDAY(DATE('Start here'!$B$3,3,28)),"S","M","T","W","T","F","S"),"") | AE4: =IF(MONTH(DATE('Start here'!$B$3,3,29))=3,CHOOSE(WEEKDAY(DATE('Start here'!$B$3,3,29)),"S","M","T","W","T","F","S"),"") | AF4: =IF(MONTH(DATE('Start here'!$B$3,3,30))=3,CHOOSE(WEEKDAY(DATE('Start here'!$B$3,3,30)),"S","M","T","W","T","F","S"),"") | AG4: =IF(MONTH(DATE('Start here'!$B$3,3,31))=3,CHOOSE(WEEKDAY(DATE('Start here'!$B$3,3,31)),"S","M","T","W","T","F","S"),"")
A5: =IF(Habits!A2="","",Habits!A2) | B5: =IF(Habits!B2="","",Habits!B2) | AH5: =COUNTA(C5:AG5) | AI5: =IF(ISNUMBER(B5),AH5*B5,0)
A6: =IF(Habits!A3="","",Habits!A3) | B6: =IF(Habits!B3="","",Habits!B3) | AH6: =COUNTA(C6:AG6) | AI6: =IF(ISNUMBER(B6),AH6*B6,0)
A7: =IF(Habits!A4="","",Habits!A4) | B7: =IF(Habits!B4="","",Habits!B4) | AH7: =COUNTA(C7:AG7) | AI7: =IF(ISNUMBER(B7),AH7*B7,0)
A8: =IF(Habits!A5="","",Habits!A5) | B8: =IF(Habits!B5="","",Habits!B5) | AH8: =COUNTA(C8:AG8) | AI8: =IF(ISNUMBER(B8),AH8*B8,0)
A9: =IF(Habits!A6="","",Habits!A6) | B9: =IF(Habits!B6="","",Habits!B6) | AH9: =COUNTA(C9:AG9) | AI9: =IF(ISNUMBER(B9),AH9*B9,0)
A10: =IF(Habits!A7="","",Habits!A7) | B10: =IF(Habits!B7="","",Habits!B7) | AH10: =COUNTA(C10:AG10) | AI10: =IF(ISNUMBER(B10),AH10*B10,0)
A11: =IF(Habits!A8="","",Habits!A8) | B11: =IF(Habits!B8="","",Habits!B8) | AH11: =COUNTA(C11:AG11) | AI11: =IF(ISNUMBER(B11),AH11*B11,0)
A12: =IF(Habits!A9="","",Habits!A9) | B12: =IF(Habits!B9="","",Habits!B9) | AH12: =COUNTA(C12:AG12) | AI12: =IF(ISNUMBER(B12),AH12*B12,0)
A13: =IF(Habits!A10="","",Habits!A10) | B13: =IF(Habits!B10="","",Habits!B10) | AH13: =COUNTA(C13:AG13) | AI13: =IF(ISNUMBER(B13),AH13*B13,0)
A14: =IF(Habits!A11="","",Habits!A11) | B14: =IF(Habits!B11="","",Habits!B11) | AH14: =COUNTA(C14:AG14) | AI14: =IF(ISNUMBER(B14),AH14*B14,0)
A15: =IF(Habits!A12="","",Habits!A12) | B15: =IF(Habits!B12="","",Habits!B12) | AH15: =COUNTA(C15:AG15) | AI15: =IF(ISNUMBER(B15),AH15*B15,0)
A16: =IF(Habits!A13="","",Habits!A13) | B16: =IF(Habits!B13="","",Habits!B13) | AH16: =COUNTA(C16:AG16) | AI16: =IF(ISNUMBER(B16),AH16*B16,0)
A17: Total | AH17: =SUM(AH5:AH16) | AI17: =SUM(AI5:AI16)

Sheet Apr
A1: April | B1: ='Start here'!$B$3 | D1: Type x on the days you do a habit.
A3: Habit | B3: Coins | C3: =IF(MONTH(DATE('Start here'!$B$3,4,1))=4,1,"") | D3: =IF(MONTH(DATE('Start here'!$B$3,4,2))=4,2,"") | E3: =IF(MONTH(DATE('Start here'!$B$3,4,3))=4,3,"") | F3: =IF(MONTH(DATE('Start here'!$B$3,4,4))=4,4,"") | G3: =IF(MONTH(DATE('Start here'!$B$3,4,5))=4,5,"") | H3: =IF(MONTH(DATE('Start here'!$B$3,4,6))=4,6,"") | I3: =IF(MONTH(DATE('Start here'!$B$3,4,7))=4,7,"") | J3: =IF(MONTH(DATE('Start here'!$B$3,4,8))=4,8,"") | K3: =IF(MONTH(DATE('Start here'!$B$3,4,9))=4,9,"") | L3: =IF(MONTH(DATE('Start here'!$B$3,4,10))=4,10,"") | M3: =IF(MONTH(DATE('Start here'!$B$3,4,11))=4,11,"") | N3: =IF(MONTH(DATE('Start here'!$B$3,4,12))=4,12,"") | O3: =IF(MONTH(DATE('Start here'!$B$3,4,13))=4,13,"") | P3: =IF(MONTH(DATE('Start here'!$B$3,4,14))=4,14,"") | Q3: =IF(MONTH(DATE('Start here'!$B$3,4,15))=4,15,"") | R3: =IF(MONTH(DATE('Start here'!$B$3,4,16))=4,16,"") | S3: =IF(MONTH(DATE('Start here'!$B$3,4,17))=4,17,"") | T3: =IF(MONTH(DATE('Start here'!$B$3,4,18))=4,18,"") | U3: =IF(MONTH(DATE('Start here'!$B$3,4,19))=4,19,"") | V3: =IF(MONTH(DATE('Start here'!$B$3,4,20))=4,20,"") | W3: =IF(MONTH(DATE('Start here'!$B$3,4,21))=4,21,"") | X3: =IF(MONTH(DATE('Start here'!$B$3,4,22))=4,22,"") | Y3: =IF(MONTH(DATE('Start here'!$B$3,4,23))=4,23,"") | Z3: =IF(MONTH(DATE('Start here'!$B$3,4,24))=4,24,"") | AA3: =IF(MONTH(DATE('Start here'!$B$3,4,25))=4,25,"") | AB3: =IF(MONTH(DATE('Start here'!$B$3,4,26))=4,26,"") | AC3: =IF(MONTH(DATE('Start here'!$B$3,4,27))=4,27,"") | AD3: =IF(MONTH(DATE('Start here'!$B$3,4,28))=4,28,"") | AE3: =IF(MONTH(DATE('Start here'!$B$3,4,29))=4,29,"") | AF3: =IF(MONTH(DATE('Start here'!$B$3,4,30))=4,30,"") | AG3: =IF(MONTH(DATE('Start here'!$B$3,4,31))=4,31,"") | AH3: Days | AI3: Coins earned
C4: =IF(MONTH(DATE('Start here'!$B$3,4,1))=4,CHOOSE(WEEKDAY(DATE('Start here'!$B$3,4,1)),"S","M","T","W","T","F","S"),"") | D4: =IF(MONTH(DATE('Start here'!$B$3,4,2))=4,CHOOSE(WEEKDAY(DATE('Start here'!$B$3,4,2)),"S","M","T","W","T","F","S"),"") | E4: =IF(MONTH(DATE('Start here'!$B$3,4,3))=4,CHOOSE(WEEKDAY(DATE('Start here'!$B$3,4,3)),"S","M","T","W","T","F","S"),"") | F4: =IF(MONTH(DATE('Start here'!$B$3,4,4))=4,CHOOSE(WEEKDAY(DATE('Start here'!$B$3,4,4)),"S","M","T","W","T","F","S"),"") | G4: =IF(MONTH(DATE('Start here'!$B$3,4,5))=4,CHOOSE(WEEKDAY(DATE('Start here'!$B$3,4,5)),"S","M","T","W","T","F","S"),"") | H4: =IF(MONTH(DATE('Start here'!$B$3,4,6))=4,CHOOSE(WEEKDAY(DATE('Start here'!$B$3,4,6)),"S","M","T","W","T","F","S"),"") | I4: =IF(MONTH(DATE('Start here'!$B$3,4,7))=4,CHOOSE(WEEKDAY(DATE('Start here'!$B$3,4,7)),"S","M","T","W","T","F","S"),"") | J4: =IF(MONTH(DATE('Start here'!$B$3,4,8))=4,CHOOSE(WEEKDAY(DATE('Start here'!$B$3,4,8)),"S","M","T","W","T","F","S"),"") | K4: =IF(MONTH(DATE('Start here'!$B$3,4,9))=4,CHOOSE(WEEKDAY(DATE('Start here'!$B$3,4,9)),"S","M","T","W","T","F","S"),"") | L4: =IF(MONTH(DATE('Start here'!$B$3,4,10))=4,CHOOSE(WEEKDAY(DATE('Start here'!$B$3,4,10)),"S","M","T","W","T","F","S"),"") | M4: =IF(MONTH(DATE('Start here'!$B$3,4,11))=4,CHOOSE(WEEKDAY(DATE('Start here'!$B$3,4,11)),"S","M","T","W","T","F","S"),"") | N4: =IF(MONTH(DATE('Start here'!$B$3,4,12))=4,CHOOSE(WEEKDAY(DATE('Start here'!$B$3,4,12)),"S","M","T","W","T","F","S"),"") | O4: =IF(MONTH(DATE('Start here'!$B$3,4,13))=4,CHOOSE(WEEKDAY(DATE('Start here'!$B$3,4,13)),"S","M","T","W","T","F","S"),"") | P4: =IF(MONTH(DATE('Start here'!$B$3,4,14))=4,CHOOSE(WEEKDAY(DATE('Start here'!$B$3,4,14)),"S","M","T","W","T","F","S"),"") | Q4: =IF(MONTH(DATE('Start here'!$B$3,4,15))=4,CHOOSE(WEEKDAY(DATE('Start here'!$B$3,4,15)),"S","M","T","W","T","F","S"),"") | R4: =IF(MONTH(DATE('Start here'!$B$3,4,16))=4,CHOOSE(WEEKDAY(DATE('Start here'!$B$3,4,16)),"S","M","T","W","T","F","S"),"") | S4: =IF(MONTH(DATE('Start here'!$B$3,4,17))=4,CHOOSE(WEEKDAY(DATE('Start here'!$B$3,4,17)),"S","M","T","W","T","F","S"),"") | T4: =IF(MONTH(DATE('Start here'!$B$3,4,18))=4,CHOOSE(WEEKDAY(DATE('Start here'!$B$3,4,18)),"S","M","T","W","T","F","S"),"") | U4: =IF(MONTH(DATE('Start here'!$B$3,4,19))=4,CHOOSE(WEEKDAY(DATE('Start here'!$B$3,4,19)),"S","M","T","W","T","F","S"),"") | V4: =IF(MONTH(DATE('Start here'!$B$3,4,20))=4,CHOOSE(WEEKDAY(DATE('Start here'!$B$3,4,20)),"S","M","T","W","T","F","S"),"") | W4: =IF(MONTH(DATE('Start here'!$B$3,4,21))=4,CHOOSE(WEEKDAY(DATE('Start here'!$B$3,4,21)),"S","M","T","W","T","F","S"),"") | X4: =IF(MONTH(DATE('Start here'!$B$3,4,22))=4,CHOOSE(WEEKDAY(DATE('Start here'!$B$3,4,22)),"S","M","T","W","T","F","S"),"") | Y4: =IF(MONTH(DATE('Start here'!$B$3,4,23))=4,CHOOSE(WEEKDAY(DATE('Start here'!$B$3,4,23)),"S","M","T","W","T","F","S"),"") | Z4: =IF(MONTH(DATE('Start here'!$B$3,4,24))=4,CHOOSE(WEEKDAY(DATE('Start here'!$B$3,4,24)),"S","M","T","W","T","F","S"),"") | AA4: =IF(MONTH(DATE('Start here'!$B$3,4,25))=4,CHOOSE(WEEKDAY(DATE('Start here'!$B$3,4,25)),"S","M","T","W","T","F","S"),"") | AB4: =IF(MONTH(DATE('Start here'!$B$3,4,26))=4,CHOOSE(WEEKDAY(DATE('Start here'!$B$3,4,26)),"S","M","T","W","T","F","S"),"") | AC4: =IF(MONTH(DATE('Start here'!$B$3,4,27))=4,CHOOSE(WEEKDAY(DATE('Start here'!$B$3,4,27)),"S","M","T","W","T","F","S"),"") | AD4: =IF(MONTH(DATE('Start here'!$B$3,4,28))=4,CHOOSE(WEEKDAY(DATE('Start here'!$B$3,4,28)),"S","M","T","W","T","F","S"),"") | AE4: =IF(MONTH(DATE('Start here'!$B$3,4,29))=4,CHOOSE(WEEKDAY(DATE('Start here'!$B$3,4,29)),"S","M","T","W","T","F","S"),"") | AF4: =IF(MONTH(DATE('Start here'!$B$3,4,30))=4,CHOOSE(WEEKDAY(DATE('Start here'!$B$3,4,30)),"S","M","T","W","T","F","S"),"") | AG4: =IF(MONTH(DATE('Start here'!$B$3,4,31))=4,CHOOSE(WEEKDAY(DATE('Start here'!$B$3,4,31)),"S","M","T","W","T","F","S"),"")
A5: =IF(Habits!A2="","",Habits!A2) | B5: =IF(Habits!B2="","",Habits!B2) | AH5: =COUNTA(C5:AG5) | AI5: =IF(ISNUMBER(B5),AH5*B5,0)
A6: =IF(Habits!A3="","",Habits!A3) | B6: =IF(Habits!B3="","",Habits!B3) | AH6: =COUNTA(C6:AG6) | AI6: =IF(ISNUMBER(B6),AH6*B6,0)
A7: =IF(Habits!A4="","",Habits!A4) | B7: =IF(Habits!B4="","",Habits!B4) | AH7: =COUNTA(C7:AG7) | AI7: =IF(ISNUMBER(B7),AH7*B7,0)
A8: =IF(Habits!A5="","",Habits!A5) | B8: =IF(Habits!B5="","",Habits!B5) | AH8: =COUNTA(C8:AG8) | AI8: =IF(ISNUMBER(B8),AH8*B8,0)
A9: =IF(Habits!A6="","",Habits!A6) | B9: =IF(Habits!B6="","",Habits!B6) | AH9: =COUNTA(C9:AG9) | AI9: =IF(ISNUMBER(B9),AH9*B9,0)
A10: =IF(Habits!A7="","",Habits!A7) | B10: =IF(Habits!B7="","",Habits!B7) | AH10: =COUNTA(C10:AG10) | AI10: =IF(ISNUMBER(B10),AH10*B10,0)
A11: =IF(Habits!A8="","",Habits!A8) | B11: =IF(Habits!B8="","",Habits!B8) | AH11: =COUNTA(C11:AG11) | AI11: =IF(ISNUMBER(B11),AH11*B11,0)
A12: =IF(Habits!A9="","",Habits!A9) | B12: =IF(Habits!B9="","",Habits!B9) | AH12: =COUNTA(C12:AG12) | AI12: =IF(ISNUMBER(B12),AH12*B12,0)
A13: =IF(Habits!A10="","",Habits!A10) | B13: =IF(Habits!B10="","",Habits!B10) | AH13: =COUNTA(C13:AG13) | AI13: =IF(ISNUMBER(B13),AH13*B13,0)
A14: =IF(Habits!A11="","",Habits!A11) | B14: =IF(Habits!B11="","",Habits!B11) | AH14: =COUNTA(C14:AG14) | AI14: =IF(ISNUMBER(B14),AH14*B14,0)
A15: =IF(Habits!A12="","",Habits!A12) | B15: =IF(Habits!B12="","",Habits!B12) | AH15: =COUNTA(C15:AG15) | AI15: =IF(ISNUMBER(B15),AH15*B15,0)
A16: =IF(Habits!A13="","",Habits!A13) | B16: =IF(Habits!B13="","",Habits!B13) | AH16: =COUNTA(C16:AG16) | AI16: =IF(ISNUMBER(B16),AH16*B16,0)
A17: Total | AH17: =SUM(AH5:AH16) | AI17: =SUM(AI5:AI16)

Sheet May
A1: May | B1: ='Start here'!$B$3 | D1: Type x on the days you do a habit.
A3: Habit | B3: Coins | C3: =IF(MONTH(DATE('Start here'!$B$3,5,1))=5,1,"") | D3: =IF(MONTH(DATE('Start here'!$B$3,5,2))=5,2,"") | E3: =IF(MONTH(DATE('Start here'!$B$3,5,3))=5,3,"") | F3: =IF(MONTH(DATE('Start here'!$B$3,5,4))=5,4,"") | G3: =IF(MONTH(DATE('Start here'!$B$3,5,5))=5,5,"") | H3: =IF(MONTH(DATE('Start here'!$B$3,5,6))=5,6,"") | I3: =IF(MONTH(DATE('Start here'!$B$3,5,7))=5,7,"") | J3: =IF(MONTH(DATE('Start here'!$B$3,5,8))=5,8,"") | K3: =IF(MONTH(DATE('Start here'!$B$3,5,9))=5,9,"") | L3: =IF(MONTH(DATE('Start here'!$B$3,5,10))=5,10,"") | M3: =IF(MONTH(DATE('Start here'!$B$3,5,11))=5,11,"") | N3: =IF(MONTH(DATE('Start here'!$B$3,5,12))=5,12,"") | O3: =IF(MONTH(DATE('Start here'!$B$3,5,13))=5,13,"") | P3: =IF(MONTH(DATE('Start here'!$B$3,5,14))=5,14,"") | Q3: =IF(MONTH(DATE('Start here'!$B$3,5,15))=5,15,"") | R3: =IF(MONTH(DATE('Start here'!$B$3,5,16))=5,16,"") | S3: =IF(MONTH(DATE('Start here'!$B$3,5,17))=5,17,"") | T3: =IF(MONTH(DATE('Start here'!$B$3,5,18))=5,18,"") | U3: =IF(MONTH(DATE('Start here'!$B$3,5,19))=5,19,"") | V3: =IF(MONTH(DATE('Start here'!$B$3,5,20))=5,20,"") | W3: =IF(MONTH(DATE('Start here'!$B$3,5,21))=5,21,"") | X3: =IF(MONTH(DATE('Start here'!$B$3,5,22))=5,22,"") | Y3: =IF(MONTH(DATE('Start here'!$B$3,5,23))=5,23,"") | Z3: =IF(MONTH(DATE('Start here'!$B$3,5,24))=5,24,"") | AA3: =IF(MONTH(DATE('Start here'!$B$3,5,25))=5,25,"") | AB3: =IF(MONTH(DATE('Start here'!$B$3,5,26))=5,26,"") | AC3: =IF(MONTH(DATE('Start here'!$B$3,5,27))=5,27,"") | AD3: =IF(MONTH(DATE('Start here'!$B$3,5,28))=5,28,"") | AE3: =IF(MONTH(DATE('Start here'!$B$3,5,29))=5,29,"") | AF3: =IF(MONTH(DATE('Start here'!$B$3,5,30))=5,30,"") | AG3: =IF(MONTH(DATE('Start here'!$B$3,5,31))=5,31,"") | AH3: Days | AI3: Coins earned
C4: =IF(MONTH(DATE('Start here'!$B$3,5,1))=5,CHOOSE(WEEKDAY(DATE('Start here'!$B$3,5,1)),"S","M","T","W","T","F","S"),"") | D4: =IF(MONTH(DATE('Start here'!$B$3,5,2))=5,CHOOSE(WEEKDAY(DATE('Start here'!$B$3,5,2)),"S","M","T","W","T","F","S"),"") | E4: =IF(MONTH(DATE('Start here'!$B$3,5,3))=5,CHOOSE(WEEKDAY(DATE('Start here'!$B$3,5,3)),"S","M","T","W","T","F","S"),"") | F4: =IF(MONTH(DATE('Start here'!$B$3,5,4))=5,CHOOSE(WEEKDAY(DATE('Start here'!$B$3,5,4)),"S","M","T","W","T","F","S"),"") | G4: =IF(MONTH(DATE('Start here'!$B$3,5,5))=5,CHOOSE(WEEKDAY(DATE('Start here'!$B$3,5,5)),"S","M","T","W","T","F","S"),"") | H4: =IF(MONTH(DATE('Start here'!$B$3,5,6))=5,CHOOSE(WEEKDAY(DATE('Start here'!$B$3,5,6)),"S","M","T","W","T","F","S"),"") | I4: =IF(MONTH(DATE('Start here'!$B$3,5,7))=5,CHOOSE(WEEKDAY(DATE('Start here'!$B$3,5,7)),"S","M","T","W","T","F","S"),"") | J4: =IF(MONTH(DATE('Start here'!$B$3,5,8))=5,CHOOSE(WEEKDAY(DATE('Start here'!$B$3,5,8)),"S","M","T","W","T","F","S"),"") | K4: =IF(MONTH(DATE('Start here'!$B$3,5,9))=5,CHOOSE(WEEKDAY(DATE('Start here'!$B$3,5,9)),"S","M","T","W","T","F","S"),"") | L4: =IF(MONTH(DATE('Start here'!$B$3,5,10))=5,CHOOSE(WEEKDAY(DATE('Start here'!$B$3,5,10)),"S","M","T","W","T","F","S"),"") | M4: =IF(MONTH(DATE('Start here'!$B$3,5,11))=5,CHOOSE(WEEKDAY(DATE('Start here'!$B$3,5,11)),"S","M","T","W","T","F","S"),"") | N4: =IF(MONTH(DATE('Start here'!$B$3,5,12))=5,CHOOSE(WEEKDAY(DATE('Start here'!$B$3,5,12)),"S","M","T","W","T","F","S"),"") | O4: =IF(MONTH(DATE('Start here'!$B$3,5,13))=5,CHOOSE(WEEKDAY(DATE('Start here'!$B$3,5,13)),"S","M","T","W","T","F","S"),"") | P4: =IF(MONTH(DATE('Start here'!$B$3,5,14))=5,CHOOSE(WEEKDAY(DATE('Start here'!$B$3,5,14)),"S","M","T","W","T","F","S"),"") | Q4: =IF(MONTH(DATE('Start here'!$B$3,5,15))=5,CHOOSE(WEEKDAY(DATE('Start here'!$B$3,5,15)),"S","M","T","W","T","F","S"),"") | R4: =IF(MONTH(DATE('Start here'!$B$3,5,16))=5,CHOOSE(WEEKDAY(DATE('Start here'!$B$3,5,16)),"S","M","T","W","T","F","S"),"") | S4: =IF(MONTH(DATE('Start here'!$B$3,5,17))=5,CHOOSE(WEEKDAY(DATE('Start here'!$B$3,5,17)),"S","M","T","W","T","F","S"),"") | T4: =IF(MONTH(DATE('Start here'!$B$3,5,18))=5,CHOOSE(WEEKDAY(DATE('Start here'!$B$3,5,18)),"S","M","T","W","T","F","S"),"") | U4: =IF(MONTH(DATE('Start here'!$B$3,5,19))=5,CHOOSE(WEEKDAY(DATE('Start here'!$B$3,5,19)),"S","M","T","W","T","F","S"),"") | V4: =IF(MONTH(DATE('Start here'!$B$3,5,20))=5,CHOOSE(WEEKDAY(DATE('Start here'!$B$3,5,20)),"S","M","T","W","T","F","S"),"") | W4: =IF(MONTH(DATE('Start here'!$B$3,5,21))=5,CHOOSE(WEEKDAY(DATE('Start here'!$B$3,5,21)),"S","M","T","W","T","F","S"),"") | X4: =IF(MONTH(DATE('Start here'!$B$3,5,22))=5,CHOOSE(WEEKDAY(DATE('Start here'!$B$3,5,22)),"S","M","T","W","T","F","S"),"") | Y4: =IF(MONTH(DATE('Start here'!$B$3,5,23))=5,CHOOSE(WEEKDAY(DATE('Start here'!$B$3,5,23)),"S","M","T","W","T","F","S"),"") | Z4: =IF(MONTH(DATE('Start here'!$B$3,5,24))=5,CHOOSE(WEEKDAY(DATE('Start here'!$B$3,5,24)),"S","M","T","W","T","F","S"),"") | AA4: =IF(MONTH(DATE('Start here'!$B$3,5,25))=5,CHOOSE(WEEKDAY(DATE('Start here'!$B$3,5,25)),"S","M","T","W","T","F","S"),"") | AB4: =IF(MONTH(DATE('Start here'!$B$3,5,26))=5,CHOOSE(WEEKDAY(DATE('Start here'!$B$3,5,26)),"S","M","T","W","T","F","S"),"") | AC4: =IF(MONTH(DATE('Start here'!$B$3,5,27))=5,CHOOSE(WEEKDAY(DATE('Start here'!$B$3,5,27)),"S","M","T","W","T","F","S"),"") | AD4: =IF(MONTH(DATE('Start here'!$B$3,5,28))=5,CHOOSE(WEEKDAY(DATE('Start here'!$B$3,5,28)),"S","M","T","W","T","F","S"),"") | AE4: =IF(MONTH(DATE('Start here'!$B$3,5,29))=5,CHOOSE(WEEKDAY(DATE('Start here'!$B$3,5,29)),"S","M","T","W","T","F","S"),"") | AF4: =IF(MONTH(DATE('Start here'!$B$3,5,30))=5,CHOOSE(WEEKDAY(DATE('Start here'!$B$3,5,30)),"S","M","T","W","T","F","S"),"") | AG4: =IF(MONTH(DATE('Start here'!$B$3,5,31))=5,CHOOSE(WEEKDAY(DATE('Start here'!$B$3,5,31)),"S","M","T","W","T","F","S"),"")
A5: =IF(Habits!A2="","",Habits!A2) | B5: =IF(Habits!B2="","",Habits!B2) | AH5: =COUNTA(C5:AG5) | AI5: =IF(ISNUMBER(B5),AH5*B5,0)
A6: =IF(Habits!A3="","",Habits!A3) | B6: =IF(Habits!B3="","",Habits!B3) | AH6: =COUNTA(C6:AG6) | AI6: =IF(ISNUMBER(B6),AH6*B6,0)
A7: =IF(Habits!A4="","",Habits!A4) | B7: =IF(Habits!B4="","",Habits!B4) | AH7: =COUNTA(C7:AG7) | AI7: =IF(ISNUMBER(B7),AH7*B7,0)
A8: =IF(Habits!A5="","",Habits!A5) | B8: =IF(Habits!B5="","",Habits!B5) | AH8: =COUNTA(C8:AG8) | AI8: =IF(ISNUMBER(B8),AH8*B8,0)
A9: =IF(Habits!A6="","",Habits!A6) | B9: =IF(Habits!B6="","",Habits!B6) | AH9: =COUNTA(C9:AG9) | AI9: =IF(ISNUMBER(B9),AH9*B9,0)
A10: =IF(Habits!A7="","",Habits!A7) | B10: =IF(Habits!B7="","",Habits!B7) | AH10: =COUNTA(C10:AG10) | AI10: =IF(ISNUMBER(B10),AH10*B10,0)
A11: =IF(Habits!A8="","",Habits!A8) | B11: =IF(Habits!B8="","",Habits!B8) | AH11: =COUNTA(C11:AG11) | AI11: =IF(ISNUMBER(B11),AH11*B11,0)
A12: =IF(Habits!A9="","",Habits!A9) | B12: =IF(Habits!B9="","",Habits!B9) | AH12: =COUNTA(C12:AG12) | AI12: =IF(ISNUMBER(B12),AH12*B12,0)
A13: =IF(Habits!A10="","",Habits!A10) | B13: =IF(Habits!B10="","",Habits!B10) | AH13: =COUNTA(C13:AG13) | AI13: =IF(ISNUMBER(B13),AH13*B13,0)
A14: =IF(Habits!A11="","",Habits!A11) | B14: =IF(Habits!B11="","",Habits!B11) | AH14: =COUNTA(C14:AG14) | AI14: =IF(ISNUMBER(B14),AH14*B14,0)
A15: =IF(Habits!A12="","",Habits!A12) | B15: =IF(Habits!B12="","",Habits!B12) | AH15: =COUNTA(C15:AG15) | AI15: =IF(ISNUMBER(B15),AH15*B15,0)
A16: =IF(Habits!A13="","",Habits!A13) | B16: =IF(Habits!B13="","",Habits!B13) | AH16: =COUNTA(C16:AG16) | AI16: =IF(ISNUMBER(B16),AH16*B16,0)
A17: Total | AH17: =SUM(AH5:AH16) | AI17: =SUM(AI5:AI16)

Sheet Jun
A1: June | B1: ='Start here'!$B$3 | D1: Type x on the days you do a habit.
A3: Habit | B3: Coins | C3: =IF(MONTH(DATE('Start here'!$B$3,6,1))=6,1,"") | D3: =IF(MONTH(DATE('Start here'!$B$3,6,2))=6,2,"") | E3: =IF(MONTH(DATE('Start here'!$B$3,6,3))=6,3,"") | F3: =IF(MONTH(DATE('Start here'!$B$3,6,4))=6,4,"") | G3: =IF(MONTH(DATE('Start here'!$B$3,6,5))=6,5,"") | H3: =IF(MONTH(DATE('Start here'!$B$3,6,6))=6,6,"") | I3: =IF(MONTH(DATE('Start here'!$B$3,6,7))=6,7,"") | J3: =IF(MONTH(DATE('Start here'!$B$3,6,8))=6,8,"") | K3: =IF(MONTH(DATE('Start here'!$B$3,6,9))=6,9,"") | L3: =IF(MONTH(DATE('Start here'!$B$3,6,10))=6,10,"") | M3: =IF(MONTH(DATE('Start here'!$B$3,6,11))=6,11,"") | N3: =IF(MONTH(DATE('Start here'!$B$3,6,12))=6,12,"") | O3: =IF(MONTH(DATE('Start here'!$B$3,6,13))=6,13,"") | P3: =IF(MONTH(DATE('Start here'!$B$3,6,14))=6,14,"") | Q3: =IF(MONTH(DATE('Start here'!$B$3,6,15))=6,15,"") | R3: =IF(MONTH(DATE('Start here'!$B$3,6,16))=6,16,"") | S3: =IF(MONTH(DATE('Start here'!$B$3,6,17))=6,17,"") | T3: =IF(MONTH(DATE('Start here'!$B$3,6,18))=6,18,"") | U3: =IF(MONTH(DATE('Start here'!$B$3,6,19))=6,19,"") | V3: =IF(MONTH(DATE('Start here'!$B$3,6,20))=6,20,"") | W3: =IF(MONTH(DATE('Start here'!$B$3,6,21))=6,21,"") | X3: =IF(MONTH(DATE('Start here'!$B$3,6,22))=6,22,"") | Y3: =IF(MONTH(DATE('Start here'!$B$3,6,23))=6,23,"") | Z3: =IF(MONTH(DATE('Start here'!$B$3,6,24))=6,24,"") | AA3: =IF(MONTH(DATE('Start here'!$B$3,6,25))=6,25,"") | AB3: =IF(MONTH(DATE('Start here'!$B$3,6,26))=6,26,"") | AC3: =IF(MONTH(DATE('Start here'!$B$3,6,27))=6,27,"") | AD3: =IF(MONTH(DATE('Start here'!$B$3,6,28))=6,28,"") | AE3: =IF(MONTH(DATE('Start here'!$B$3,6,29))=6,29,"") | AF3: =IF(MONTH(DATE('Start here'!$B$3,6,30))=6,30,"") | AG3: =IF(MONTH(DATE('Start here'!$B$3,6,31))=6,31,"") | AH3: Days | AI3: Coins earned
C4: =IF(MONTH(DATE('Start here'!$B$3,6,1))=6,CHOOSE(WEEKDAY(DATE('Start here'!$B$3,6,1)),"S","M","T","W","T","F","S"),"") | D4: =IF(MONTH(DATE('Start here'!$B$3,6,2))=6,CHOOSE(WEEKDAY(DATE('Start here'!$B$3,6,2)),"S","M","T","W","T","F","S"),"") | E4: =IF(MONTH(DATE('Start here'!$B$3,6,3))=6,CHOOSE(WEEKDAY(DATE('Start here'!$B$3,6,3)),"S","M","T","W","T","F","S"),"") | F4: =IF(MONTH(DATE('Start here'!$B$3,6,4))=6,CHOOSE(WEEKDAY(DATE('Start here'!$B$3,6,4)),"S","M","T","W","T","F","S"),"") | G4: =IF(MONTH(DATE('Start here'!$B$3,6,5))=6,CHOOSE(WEEKDAY(DATE('Start here'!$B$3,6,5)),"S","M","T","W","T","F","S"),"") | H4: =IF(MONTH(DATE('Start here'!$B$3,6,6))=6,CHOOSE(WEEKDAY(DATE('Start here'!$B$3,6,6)),"S","M","T","W","T","F","S"),"") | I4: =IF(MONTH(DATE('Start here'!$B$3,6,7))=6,CHOOSE(WEEKDAY(DATE('Start here'!$B$3,6,7)),"S","M","T","W","T","F","S"),"") | J4: =IF(MONTH(DATE('Start here'!$B$3,6,8))=6,CHOOSE(WEEKDAY(DATE('Start here'!$B$3,6,8)),"S","M","T","W","T","F","S"),"") | K4: =IF(MONTH(DATE('Start here'!$B$3,6,9))=6,CHOOSE(WEEKDAY(DATE('Start here'!$B$3,6,9)),"S","M","T","W","T","F","S"),"") | L4: =IF(MONTH(DATE('Start here'!$B$3,6,10))=6,CHOOSE(WEEKDAY(DATE('Start here'!$B$3,6,10)),"S","M","T","W","T","F","S"),"") | M4: =IF(MONTH(DATE('Start here'!$B$3,6,11))=6,CHOOSE(WEEKDAY(DATE('Start here'!$B$3,6,11)),"S","M","T","W","T","F","S"),"") | N4: =IF(MONTH(DATE('Start here'!$B$3,6,12))=6,CHOOSE(WEEKDAY(DATE('Start here'!$B$3,6,12)),"S","M","T","W","T","F","S"),"") | O4: =IF(MONTH(DATE('Start here'!$B$3,6,13))=6,CHOOSE(WEEKDAY(DATE('Start here'!$B$3,6,13)),"S","M","T","W","T","F","S"),"") | P4: =IF(MONTH(DATE('Start here'!$B$3,6,14))=6,CHOOSE(WEEKDAY(DATE('Start here'!$B$3,6,14)),"S","M","T","W","T","F","S"),"") | Q4: =IF(MONTH(DATE('Start here'!$B$3,6,15))=6,CHOOSE(WEEKDAY(DATE('Start here'!$B$3,6,15)),"S","M","T","W","T","F","S"),"") | R4: =IF(MONTH(DATE('Start here'!$B$3,6,16))=6,CHOOSE(WEEKDAY(DATE('Start here'!$B$3,6,16)),"S","M","T","W","T","F","S"),"") | S4: =IF(MONTH(DATE('Start here'!$B$3,6,17))=6,CHOOSE(WEEKDAY(DATE('Start here'!$B$3,6,17)),"S","M","T","W","T","F","S"),"") | T4: =IF(MONTH(DATE('Start here'!$B$3,6,18))=6,CHOOSE(WEEKDAY(DATE('Start here'!$B$3,6,18)),"S","M","T","W","T","F","S"),"") | U4: =IF(MONTH(DATE('Start here'!$B$3,6,19))=6,CHOOSE(WEEKDAY(DATE('Start here'!$B$3,6,19)),"S","M","T","W","T","F","S"),"") | V4: =IF(MONTH(DATE('Start here'!$B$3,6,20))=6,CHOOSE(WEEKDAY(DATE('Start here'!$B$3,6,20)),"S","M","T","W","T","F","S"),"") | W4: =IF(MONTH(DATE('Start here'!$B$3,6,21))=6,CHOOSE(WEEKDAY(DATE('Start here'!$B$3,6,21)),"S","M","T","W","T","F","S"),"") | X4: =IF(MONTH(DATE('Start here'!$B$3,6,22))=6,CHOOSE(WEEKDAY(DATE('Start here'!$B$3,6,22)),"S","M","T","W","T","F","S"),"") | Y4: =IF(MONTH(DATE('Start here'!$B$3,6,23))=6,CHOOSE(WEEKDAY(DATE('Start here'!$B$3,6,23)),"S","M","T","W","T","F","S"),"") | Z4: =IF(MONTH(DATE('Start here'!$B$3,6,24))=6,CHOOSE(WEEKDAY(DATE('Start here'!$B$3,6,24)),"S","M","T","W","T","F","S"),"") | AA4: =IF(MONTH(DATE('Start here'!$B$3,6,25))=6,CHOOSE(WEEKDAY(DATE('Start here'!$B$3,6,25)),"S","M","T","W","T","F","S"),"") | AB4: =IF(MONTH(DATE('Start here'!$B$3,6,26))=6,CHOOSE(WEEKDAY(DATE('Start here'!$B$3,6,26)),"S","M","T","W","T","F","S"),"") | AC4: =IF(MONTH(DATE('Start here'!$B$3,6,27))=6,CHOOSE(WEEKDAY(DATE('Start here'!$B$3,6,27)),"S","M","T","W","T","F","S"),"") | AD4: =IF(MONTH(DATE('Start here'!$B$3,6,28))=6,CHOOSE(WEEKDAY(DATE('Start here'!$B$3,6,28)),"S","M","T","W","T","F","S"),"") | AE4: =IF(MONTH(DATE('Start here'!$B$3,6,29))=6,CHOOSE(WEEKDAY(DATE('Start here'!$B$3,6,29)),"S","M","T","W","T","F","S"),"") | AF4: =IF(MONTH(DATE('Start here'!$B$3,6,30))=6,CHOOSE(WEEKDAY(DATE('Start here'!$B$3,6,30)),"S","M","T","W","T","F","S"),"") | AG4: =IF(MONTH(DATE('Start here'!$B$3,6,31))=6,CHOOSE(WEEKDAY(DATE('Start here'!$B$3,6,31)),"S","M","T","W","T","F","S"),"")
A5: =IF(Habits!A2="","",Habits!A2) | B5: =IF(Habits!B2="","",Habits!B2) | AH5: =COUNTA(C5:AG5) | AI5: =IF(ISNUMBER(B5),AH5*B5,0)
A6: =IF(Habits!A3="","",Habits!A3) | B6: =IF(Habits!B3="","",Habits!B3) | AH6: =COUNTA(C6:AG6) | AI6: =IF(ISNUMBER(B6),AH6*B6,0)
A7: =IF(Habits!A4="","",Habits!A4) | B7: =IF(Habits!B4="","",Habits!B4) | AH7: =COUNTA(C7:AG7) | AI7: =IF(ISNUMBER(B7),AH7*B7,0)
A8: =IF(Habits!A5="","",Habits!A5) | B8: =IF(Habits!B5="","",Habits!B5) | AH8: =COUNTA(C8:AG8) | AI8: =IF(ISNUMBER(B8),AH8*B8,0)
A9: =IF(Habits!A6="","",Habits!A6) | B9: =IF(Habits!B6="","",Habits!B6) | AH9: =COUNTA(C9:AG9) | AI9: =IF(ISNUMBER(B9),AH9*B9,0)
A10: =IF(Habits!A7="","",Habits!A7) | B10: =IF(Habits!B7="","",Habits!B7) | AH10: =COUNTA(C10:AG10) | AI10: =IF(ISNUMBER(B10),AH10*B10,0)
A11: =IF(Habits!A8="","",Habits!A8) | B11: =IF(Habits!B8="","",Habits!B8) | AH11: =COUNTA(C11:AG11) | AI11: =IF(ISNUMBER(B11),AH11*B11,0)
A12: =IF(Habits!A9="","",Habits!A9) | B12: =IF(Habits!B9="","",Habits!B9) | AH12: =COUNTA(C12:AG12) | AI12: =IF(ISNUMBER(B12),AH12*B12,0)
A13: =IF(Habits!A10="","",Habits!A10) | B13: =IF(Habits!B10="","",Habits!B10) | AH13: =COUNTA(C13:AG13) | AI13: =IF(ISNUMBER(B13),AH13*B13,0)
A14: =IF(Habits!A11="","",Habits!A11) | B14: =IF(Habits!B11="","",Habits!B11) | AH14: =COUNTA(C14:AG14) | AI14: =IF(ISNUMBER(B14),AH14*B14,0)
A15: =IF(Habits!A12="","",Habits!A12) | B15: =IF(Habits!B12="","",Habits!B12) | AH15: =COUNTA(C15:AG15) | AI15: =IF(ISNUMBER(B15),AH15*B15,0)
A16: =IF(Habits!A13="","",Habits!A13) | B16: =IF(Habits!B13="","",Habits!B13) | AH16: =COUNTA(C16:AG16) | AI16: =IF(ISNUMBER(B16),AH16*B16,0)
A17: Total | AH17: =SUM(AH5:AH16) | AI17: =SUM(AI5:AI16)

Sheet Jul
A1: July | B1: ='Start here'!$B$3 | D1: Type x on the days you do a habit.
A3: Habit | B3: Coins | C3: =IF(MONTH(DATE('Start here'!$B$3,7,1))=7,1,"") | D3: =IF(MONTH(DATE('Start here'!$B$3,7,2))=7,2,"") | E3: =IF(MONTH(DATE('Start here'!$B$3,7,3))=7,3,"") | F3: =IF(MONTH(DATE('Start here'!$B$3,7,4))=7,4,"") | G3: =IF(MONTH(DATE('Start here'!$B$3,7,5))=7,5,"") | H3: =IF(MONTH(DATE('Start here'!$B$3,7,6))=7,6,"") | I3: =IF(MONTH(DATE('Start here'!$B$3,7,7))=7,7,"") | J3: =IF(MONTH(DATE('Start here'!$B$3,7,8))=7,8,"") | K3: =IF(MONTH(DATE('Start here'!$B$3,7,9))=7,9,"") | L3: =IF(MONTH(DATE('Start here'!$B$3,7,10))=7,10,"") | M3: =IF(MONTH(DATE('Start here'!$B$3,7,11))=7,11,"") | N3: =IF(MONTH(DATE('Start here'!$B$3,7,12))=7,12,"") | O3: =IF(MONTH(DATE('Start here'!$B$3,7,13))=7,13,"") | P3: =IF(MONTH(DATE('Start here'!$B$3,7,14))=7,14,"") | Q3: =IF(MONTH(DATE('Start here'!$B$3,7,15))=7,15,"") | R3: =IF(MONTH(DATE('Start here'!$B$3,7,16))=7,16,"") | S3: =IF(MONTH(DATE('Start here'!$B$3,7,17))=7,17,"") | T3: =IF(MONTH(DATE('Start here'!$B$3,7,18))=7,18,"") | U3: =IF(MONTH(DATE('Start here'!$B$3,7,19))=7,19,"") | V3: =IF(MONTH(DATE('Start here'!$B$3,7,20))=7,20,"") | W3: =IF(MONTH(DATE('Start here'!$B$3,7,21))=7,21,"") | X3: =IF(MONTH(DATE('Start here'!$B$3,7,22))=7,22,"") | Y3: =IF(MONTH(DATE('Start here'!$B$3,7,23))=7,23,"") | Z3: =IF(MONTH(DATE('Start here'!$B$3,7,24))=7,24,"") | AA3: =IF(MONTH(DATE('Start here'!$B$3,7,25))=7,25,"") | AB3: =IF(MONTH(DATE('Start here'!$B$3,7,26))=7,26,"") | AC3: =IF(MONTH(DATE('Start here'!$B$3,7,27))=7,27,"") | AD3: =IF(MONTH(DATE('Start here'!$B$3,7,28))=7,28,"") | AE3: =IF(MONTH(DATE('Start here'!$B$3,7,29))=7,29,"") | AF3: =IF(MONTH(DATE('Start here'!$B$3,7,30))=7,30,"") | AG3: =IF(MONTH(DATE('Start here'!$B$3,7,31))=7,31,"") | AH3: Days | AI3: Coins earned
C4: =IF(MONTH(DATE('Start here'!$B$3,7,1))=7,CHOOSE(WEEKDAY(DATE('Start here'!$B$3,7,1)),"S","M","T","W","T","F","S"),"") | D4: =IF(MONTH(DATE('Start here'!$B$3,7,2))=7,CHOOSE(WEEKDAY(DATE('Start here'!$B$3,7,2)),"S","M","T","W","T","F","S"),"") | E4: =IF(MONTH(DATE('Start here'!$B$3,7,3))=7,CHOOSE(WEEKDAY(DATE('Start here'!$B$3,7,3)),"S","M","T","W","T","F","S"),"") | F4: =IF(MONTH(DATE('Start here'!$B$3,7,4))=7,CHOOSE(WEEKDAY(DATE('Start here'!$B$3,7,4)),"S","M","T","W","T","F","S"),"") | G4: =IF(MONTH(DATE('Start here'!$B$3,7,5))=7,CHOOSE(WEEKDAY(DATE('Start here'!$B$3,7,5)),"S","M","T","W","T","F","S"),"") | H4: =IF(MONTH(DATE('Start here'!$B$3,7,6))=7,CHOOSE(WEEKDAY(DATE('Start here'!$B$3,7,6)),"S","M","T","W","T","F","S"),"") | I4: =IF(MONTH(DATE('Start here'!$B$3,7,7))=7,CHOOSE(WEEKDAY(DATE('Start here'!$B$3,7,7)),"S","M","T","W","T","F","S"),"") | J4: =IF(MONTH(DATE('Start here'!$B$3,7,8))=7,CHOOSE(WEEKDAY(DATE('Start here'!$B$3,7,8)),"S","M","T","W","T","F","S"),"") | K4: =IF(MONTH(DATE('Start here'!$B$3,7,9))=7,CHOOSE(WEEKDAY(DATE('Start here'!$B$3,7,9)),"S","M","T","W","T","F","S"),"") | L4: =IF(MONTH(DATE('Start here'!$B$3,7,10))=7,CHOOSE(WEEKDAY(DATE('Start here'!$B$3,7,10)),"S","M","T","W","T","F","S"),"") | M4: =IF(MONTH(DATE('Start here'!$B$3,7,11))=7,CHOOSE(WEEKDAY(DATE('Start here'!$B$3,7,11)),"S","M","T","W","T","F","S"),"") | N4: =IF(MONTH(DATE('Start here'!$B$3,7,12))=7,CHOOSE(WEEKDAY(DATE('Start here'!$B$3,7,12)),"S","M","T","W","T","F","S"),"") | O4: =IF(MONTH(DATE('Start here'!$B$3,7,13))=7,CHOOSE(WEEKDAY(DATE('Start here'!$B$3,7,13)),"S","M","T","W","T","F","S"),"") | P4: =IF(MONTH(DATE('Start here'!$B$3,7,14))=7,CHOOSE(WEEKDAY(DATE('Start here'!$B$3,7,14)),"S","M","T","W","T","F","S"),"") | Q4: =IF(MONTH(DATE('Start here'!$B$3,7,15))=7,CHOOSE(WEEKDAY(DATE('Start here'!$B$3,7,15)),"S","M","T","W","T","F","S"),"") | R4: =IF(MONTH(DATE('Start here'!$B$3,7,16))=7,CHOOSE(WEEKDAY(DATE('Start here'!$B$3,7,16)),"S","M","T","W","T","F","S"),"") | S4: =IF(MONTH(DATE('Start here'!$B$3,7,17))=7,CHOOSE(WEEKDAY(DATE('Start here'!$B$3,7,17)),"S","M","T","W","T","F","S"),"") | T4: =IF(MONTH(DATE('Start here'!$B$3,7,18))=7,CHOOSE(WEEKDAY(DATE('Start here'!$B$3,7,18)),"S","M","T","W","T","F","S"),"") | U4: =IF(MONTH(DATE('Start here'!$B$3,7,19))=7,CHOOSE(WEEKDAY(DATE('Start here'!$B$3,7,19)),"S","M","T","W","T","F","S"),"") | V4: =IF(MONTH(DATE('Start here'!$B$3,7,20))=7,CHOOSE(WEEKDAY(DATE('Start here'!$B$3,7,20)),"S","M","T","W","T","F","S"),"") | W4: =IF(MONTH(DATE('Start here'!$B$3,7,21))=7,CHOOSE(WEEKDAY(DATE('Start here'!$B$3,7,21)),"S","M","T","W","T","F","S"),"") | X4: =IF(MONTH(DATE('Start here'!$B$3,7,22))=7,CHOOSE(WEEKDAY(DATE('Start here'!$B$3,7,22)),"S","M","T","W","T","F","S"),"") | Y4: =IF(MONTH(DATE('Start here'!$B$3,7,23))=7,CHOOSE(WEEKDAY(DATE('Start here'!$B$3,7,23)),"S","M","T","W","T","F","S"),"") | Z4: =IF(MONTH(DATE('Start here'!$B$3,7,24))=7,CHOOSE(WEEKDAY(DATE('Start here'!$B$3,7,24)),"S","M","T","W","T","F","S"),"") | AA4: =IF(MONTH(DATE('Start here'!$B$3,7,25))=7,CHOOSE(WEEKDAY(DATE('Start here'!$B$3,7,25)),"S","M","T","W","T","F","S"),"") | AB4: =IF(MONTH(DATE('Start here'!$B$3,7,26))=7,CHOOSE(WEEKDAY(DATE('Start here'!$B$3,7,26)),"S","M","T","W","T","F","S"),"") | AC4: =IF(MONTH(DATE('Start here'!$B$3,7,27))=7,CHOOSE(WEEKDAY(DATE('Start here'!$B$3,7,27)),"S","M","T","W","T","F","S"),"") | AD4: =IF(MONTH(DATE('Start here'!$B$3,7,28))=7,CHOOSE(WEEKDAY(DATE('Start here'!$B$3,7,28)),"S","M","T","W","T","F","S"),"") | AE4: =IF(MONTH(DATE('Start here'!$B$3,7,29))=7,CHOOSE(WEEKDAY(DATE('Start here'!$B$3,7,29)),"S","M","T","W","T","F","S"),"") | AF4: =IF(MONTH(DATE('Start here'!$B$3,7,30))=7,CHOOSE(WEEKDAY(DATE('Start here'!$B$3,7,30)),"S","M","T","W","T","F","S"),"") | AG4: =IF(MONTH(DATE('Start here'!$B$3,7,31))=7,CHOOSE(WEEKDAY(DATE('Start here'!$B$3,7,31)),"S","M","T","W","T","F","S"),"")
A5: =IF(Habits!A2="","",Habits!A2) | B5: =IF(Habits!B2="","",Habits!B2) | AH5: =COUNTA(C5:AG5) | AI5: =IF(ISNUMBER(B5),AH5*B5,0)
A6: =IF(Habits!A3="","",Habits!A3) | B6: =IF(Habits!B3="","",Habits!B3) | AH6: =COUNTA(C6:AG6) | AI6: =IF(ISNUMBER(B6),AH6*B6,0)
A7: =IF(Habits!A4="","",Habits!A4) | B7: =IF(Habits!B4="","",Habits!B4) | AH7: =COUNTA(C7:AG7) | AI7: =IF(ISNUMBER(B7),AH7*B7,0)
A8: =IF(Habits!A5="","",Habits!A5) | B8: =IF(Habits!B5="","",Habits!B5) | AH8: =COUNTA(C8:AG8) | AI8: =IF(ISNUMBER(B8),AH8*B8,0)
A9: =IF(Habits!A6="","",Habits!A6) | B9: =IF(Habits!B6="","",Habits!B6) | AH9: =COUNTA(C9:AG9) | AI9: =IF(ISNUMBER(B9),AH9*B9,0)
A10: =IF(Habits!A7="","",Habits!A7) | B10: =IF(Habits!B7="","",Habits!B7) | AH10: =COUNTA(C10:AG10) | AI10: =IF(ISNUMBER(B10),AH10*B10,0)
A11: =IF(Habits!A8="","",Habits!A8) | B11: =IF(Habits!B8="","",Habits!B8) | AH11: =COUNTA(C11:AG11) | AI11: =IF(ISNUMBER(B11),AH11*B11,0)
A12: =IF(Habits!A9="","",Habits!A9) | B12: =IF(Habits!B9="","",Habits!B9) | AH12: =COUNTA(C12:AG12) | AI12: =IF(ISNUMBER(B12),AH12*B12,0)
A13: =IF(Habits!A10="","",Habits!A10) | B13: =IF(Habits!B10="","",Habits!B10) | AH13: =COUNTA(C13:AG13) | AI13: =IF(ISNUMBER(B13),AH13*B13,0)
A14: =IF(Habits!A11="","",Habits!A11) | B14: =IF(Habits!B11="","",Habits!B11) | AH14: =COUNTA(C14:AG14) | AI14: =IF(ISNUMBER(B14),AH14*B14,0)
A15: =IF(Habits!A12="","",Habits!A12) | B15: =IF(Habits!B12="","",Habits!B12) | AH15: =COUNTA(C15:AG15) | AI15: =IF(ISNUMBER(B15),AH15*B15,0)
A16: =IF(Habits!A13="","",Habits!A13) | B16: =IF(Habits!B13="","",Habits!B13) | AH16: =COUNTA(C16:AG16) | AI16: =IF(ISNUMBER(B16),AH16*B16,0)
A17: Total | AH17: =SUM(AH5:AH16) | AI17: =SUM(AI5:AI16)

Sheet Aug
A1: August | B1: ='Start here'!$B$3 | D1: Type x on the days you do a habit.
A3: Habit | B3: Coins | C3: =IF(MONTH(DATE('Start here'!$B$3,8,1))=8,1,"") | D3: =IF(MONTH(DATE('Start here'!$B$3,8,2))=8,2,"") | E3: =IF(MONTH(DATE('Start here'!$B$3,8,3))=8,3,"") | F3: =IF(MONTH(DATE('Start here'!$B$3,8,4))=8,4,"") | G3: =IF(MONTH(DATE('Start here'!$B$3,8,5))=8,5,"") | H3: =IF(MONTH(DATE('Start here'!$B$3,8,6))=8,6,"") | I3: =IF(MONTH(DATE('Start here'!$B$3,8,7))=8,7,"") | J3: =IF(MONTH(DATE('Start here'!$B$3,8,8))=8,8,"") | K3: =IF(MONTH(DATE('Start here'!$B$3,8,9))=8,9,"") | L3: =IF(MONTH(DATE('Start here'!$B$3,8,10))=8,10,"") | M3: =IF(MONTH(DATE('Start here'!$B$3,8,11))=8,11,"") | N3: =IF(MONTH(DATE('Start here'!$B$3,8,12))=8,12,"") | O3: =IF(MONTH(DATE('Start here'!$B$3,8,13))=8,13,"") | P3: =IF(MONTH(DATE('Start here'!$B$3,8,14))=8,14,"") | Q3: =IF(MONTH(DATE('Start here'!$B$3,8,15))=8,15,"") | R3: =IF(MONTH(DATE('Start here'!$B$3,8,16))=8,16,"") | S3: =IF(MONTH(DATE('Start here'!$B$3,8,17))=8,17,"") | T3: =IF(MONTH(DATE('Start here'!$B$3,8,18))=8,18,"") | U3: =IF(MONTH(DATE('Start here'!$B$3,8,19))=8,19,"") | V3: =IF(MONTH(DATE('Start here'!$B$3,8,20))=8,20,"") | W3: =IF(MONTH(DATE('Start here'!$B$3,8,21))=8,21,"") | X3: =IF(MONTH(DATE('Start here'!$B$3,8,22))=8,22,"") | Y3: =IF(MONTH(DATE('Start here'!$B$3,8,23))=8,23,"") | Z3: =IF(MONTH(DATE('Start here'!$B$3,8,24))=8,24,"") | AA3: =IF(MONTH(DATE('Start here'!$B$3,8,25))=8,25,"") | AB3: =IF(MONTH(DATE('Start here'!$B$3,8,26))=8,26,"") | AC3: =IF(MONTH(DATE('Start here'!$B$3,8,27))=8,27,"") | AD3: =IF(MONTH(DATE('Start here'!$B$3,8,28))=8,28,"") | AE3: =IF(MONTH(DATE('Start here'!$B$3,8,29))=8,29,"") | AF3: =IF(MONTH(DATE('Start here'!$B$3,8,30))=8,30,"") | AG3: =IF(MONTH(DATE('Start here'!$B$3,8,31))=8,31,"") | AH3: Days | AI3: Coins earned
C4: =IF(MONTH(DATE('Start here'!$B$3,8,1))=8,CHOOSE(WEEKDAY(DATE('Start here'!$B$3,8,1)),"S","M","T","W","T","F","S"),"") | D4: =IF(MONTH(DATE('Start here'!$B$3,8,2))=8,CHOOSE(WEEKDAY(DATE('Start here'!$B$3,8,2)),"S","M","T","W","T","F","S"),"") | E4: =IF(MONTH(DATE('Start here'!$B$3,8,3))=8,CHOOSE(WEEKDAY(DATE('Start here'!$B$3,8,3)),"S","M","T","W","T","F","S"),"") | F4: =IF(MONTH(DATE('Start here'!$B$3,8,4))=8,CHOOSE(WEEKDAY(DATE('Start here'!$B$3,8,4)),"S","M","T","W","T","F","S"),"") | G4: =IF(MONTH(DATE('Start here'!$B$3,8,5))=8,CHOOSE(WEEKDAY(DATE('Start here'!$B$3,8,5)),"S","M","T","W","T","F","S"),"") | H4: =IF(MONTH(DATE('Start here'!$B$3,8,6))=8,CHOOSE(WEEKDAY(DATE('Start here'!$B$3,8,6)),"S","M","T","W","T","F","S"),"") | I4: =IF(MONTH(DATE('Start here'!$B$3,8,7))=8,CHOOSE(WEEKDAY(DATE('Start here'!$B$3,8,7)),"S","M","T","W","T","F","S"),"") | J4: =IF(MONTH(DATE('Start here'!$B$3,8,8))=8,CHOOSE(WEEKDAY(DATE('Start here'!$B$3,8,8)),"S","M","T","W","T","F","S"),"") | K4: =IF(MONTH(DATE('Start here'!$B$3,8,9))=8,CHOOSE(WEEKDAY(DATE('Start here'!$B$3,8,9)),"S","M","T","W","T","F","S"),"") | L4: =IF(MONTH(DATE('Start here'!$B$3,8,10))=8,CHOOSE(WEEKDAY(DATE('Start here'!$B$3,8,10)),"S","M","T","W","T","F","S"),"") | M4: =IF(MONTH(DATE('Start here'!$B$3,8,11))=8,CHOOSE(WEEKDAY(DATE('Start here'!$B$3,8,11)),"S","M","T","W","T","F","S"),"") | N4: =IF(MONTH(DATE('Start here'!$B$3,8,12))=8,CHOOSE(WEEKDAY(DATE('Start here'!$B$3,8,12)),"S","M","T","W","T","F","S"),"") | O4: =IF(MONTH(DATE('Start here'!$B$3,8,13))=8,CHOOSE(WEEKDAY(DATE('Start here'!$B$3,8,13)),"S","M","T","W","T","F","S"),"") | P4: =IF(MONTH(DATE('Start here'!$B$3,8,14))=8,CHOOSE(WEEKDAY(DATE('Start here'!$B$3,8,14)),"S","M","T","W","T","F","S"),"") | Q4: =IF(MONTH(DATE('Start here'!$B$3,8,15))=8,CHOOSE(WEEKDAY(DATE('Start here'!$B$3,8,15)),"S","M","T","W","T","F","S"),"") | R4: =IF(MONTH(DATE('Start here'!$B$3,8,16))=8,CHOOSE(WEEKDAY(DATE('Start here'!$B$3,8,16)),"S","M","T","W","T","F","S"),"") | S4: =IF(MONTH(DATE('Start here'!$B$3,8,17))=8,CHOOSE(WEEKDAY(DATE('Start here'!$B$3,8,17)),"S","M","T","W","T","F","S"),"") | T4: =IF(MONTH(DATE('Start here'!$B$3,8,18))=8,CHOOSE(WEEKDAY(DATE('Start here'!$B$3,8,18)),"S","M","T","W","T","F","S"),"") | U4: =IF(MONTH(DATE('Start here'!$B$3,8,19))=8,CHOOSE(WEEKDAY(DATE('Start here'!$B$3,8,19)),"S","M","T","W","T","F","S"),"") | V4: =IF(MONTH(DATE('Start here'!$B$3,8,20))=8,CHOOSE(WEEKDAY(DATE('Start here'!$B$3,8,20)),"S","M","T","W","T","F","S"),"") | W4: =IF(MONTH(DATE('Start here'!$B$3,8,21))=8,CHOOSE(WEEKDAY(DATE('Start here'!$B$3,8,21)),"S","M","T","W","T","F","S"),"") | X4: =IF(MONTH(DATE('Start here'!$B$3,8,22))=8,CHOOSE(WEEKDAY(DATE('Start here'!$B$3,8,22)),"S","M","T","W","T","F","S"),"") | Y4: =IF(MONTH(DATE('Start here'!$B$3,8,23))=8,CHOOSE(WEEKDAY(DATE('Start here'!$B$3,8,23)),"S","M","T","W","T","F","S"),"") | Z4: =IF(MONTH(DATE('Start here'!$B$3,8,24))=8,CHOOSE(WEEKDAY(DATE('Start here'!$B$3,8,24)),"S","M","T","W","T","F","S"),"") | AA4: =IF(MONTH(DATE('Start here'!$B$3,8,25))=8,CHOOSE(WEEKDAY(DATE('Start here'!$B$3,8,25)),"S","M","T","W","T","F","S"),"") | AB4: =IF(MONTH(DATE('Start here'!$B$3,8,26))=8,CHOOSE(WEEKDAY(DATE('Start here'!$B$3,8,26)),"S","M","T","W","T","F","S"),"") | AC4: =IF(MONTH(DATE('Start here'!$B$3,8,27))=8,CHOOSE(WEEKDAY(DATE('Start here'!$B$3,8,27)),"S","M","T","W","T","F","S"),"") | AD4: =IF(MONTH(DATE('Start here'!$B$3,8,28))=8,CHOOSE(WEEKDAY(DATE('Start here'!$B$3,8,28)),"S","M","T","W","T","F","S"),"") | AE4: =IF(MONTH(DATE('Start here'!$B$3,8,29))=8,CHOOSE(WEEKDAY(DATE('Start here'!$B$3,8,29)),"S","M","T","W","T","F","S"),"") | AF4: =IF(MONTH(DATE('Start here'!$B$3,8,30))=8,CHOOSE(WEEKDAY(DATE('Start here'!$B$3,8,30)),"S","M","T","W","T","F","S"),"") | AG4: =IF(MONTH(DATE('Start here'!$B$3,8,31))=8,CHOOSE(WEEKDAY(DATE('Start here'!$B$3,8,31)),"S","M","T","W","T","F","S"),"")
A5: =IF(Habits!A2="","",Habits!A2) | B5: =IF(Habits!B2="","",Habits!B2) | AH5: =COUNTA(C5:AG5) | AI5: =IF(ISNUMBER(B5),AH5*B5,0)
A6: =IF(Habits!A3="","",Habits!A3) | B6: =IF(Habits!B3="","",Habits!B3) | AH6: =COUNTA(C6:AG6) | AI6: =IF(ISNUMBER(B6),AH6*B6,0)
A7: =IF(Habits!A4="","",Habits!A4) | B7: =IF(Habits!B4="","",Habits!B4) | AH7: =COUNTA(C7:AG7) | AI7: =IF(ISNUMBER(B7),AH7*B7,0)
A8: =IF(Habits!A5="","",Habits!A5) | B8: =IF(Habits!B5="","",Habits!B5) | AH8: =COUNTA(C8:AG8) | AI8: =IF(ISNUMBER(B8),AH8*B8,0)
A9: =IF(Habits!A6="","",Habits!A6) | B9: =IF(Habits!B6="","",Habits!B6) | AH9: =COUNTA(C9:AG9) | AI9: =IF(ISNUMBER(B9),AH9*B9,0)
